BEGIN:VCALENDAR
VERSION:2.0
PRODID:-//Training &amp; Events Calendar - ECPv6.15.19//NONSGML v1.0//EN
CALSCALE:GREGORIAN
METHOD:PUBLISH
X-WR-CALNAME:Training &amp; Events Calendar
X-ORIGINAL-URL:https://events.davismethod.com
X-WR-CALDESC:Events for Training &amp; Events Calendar
REFRESH-INTERVAL;VALUE=DURATION:PT1H
X-Robots-Tag:noindex
X-PUBLISHED-TTL:PT1H
BEGIN:VTIMEZONE
TZID:America/Denver
BEGIN:DAYLIGHT
TZOFFSETFROM:-0700
TZOFFSETTO:-0600
TZNAME:MDT
DTSTART:20230312T090000
END:DAYLIGHT
BEGIN:STANDARD
TZOFFSETFROM:-0600
TZOFFSETTO:-0700
TZNAME:MST
DTSTART:20231105T080000
END:STANDARD
BEGIN:DAYLIGHT
TZOFFSETFROM:-0700
TZOFFSETTO:-0600
TZNAME:MDT
DTSTART:20240310T090000
END:DAYLIGHT
BEGIN:STANDARD
TZOFFSETFROM:-0600
TZOFFSETTO:-0700
TZNAME:MST
DTSTART:20241103T080000
END:STANDARD
BEGIN:DAYLIGHT
TZOFFSETFROM:-0700
TZOFFSETTO:-0600
TZNAME:MDT
DTSTART:20250309T090000
END:DAYLIGHT
BEGIN:STANDARD
TZOFFSETFROM:-0600
TZOFFSETTO:-0700
TZNAME:MST
DTSTART:20251102T080000
END:STANDARD
END:VTIMEZONE
BEGIN:VTIMEZONE
TZID:America/New_York
BEGIN:DAYLIGHT
TZOFFSETFROM:-0500
TZOFFSETTO:-0400
TZNAME:EDT
DTSTART:20230312T070000
END:DAYLIGHT
BEGIN:STANDARD
TZOFFSETFROM:-0400
TZOFFSETTO:-0500
TZNAME:EST
DTSTART:20231105T060000
END:STANDARD
BEGIN:DAYLIGHT
TZOFFSETFROM:-0500
TZOFFSETTO:-0400
TZNAME:EDT
DTSTART:20240310T070000
END:DAYLIGHT
BEGIN:STANDARD
TZOFFSETFROM:-0400
TZOFFSETTO:-0500
TZNAME:EST
DTSTART:20241103T060000
END:STANDARD
BEGIN:DAYLIGHT
TZOFFSETFROM:-0500
TZOFFSETTO:-0400
TZNAME:EDT
DTSTART:20250309T070000
END:DAYLIGHT
BEGIN:STANDARD
TZOFFSETFROM:-0400
TZOFFSETTO:-0500
TZNAME:EST
DTSTART:20251102T060000
END:STANDARD
END:VTIMEZONE
BEGIN:VTIMEZONE
TZID:Pacific/Auckland
BEGIN:STANDARD
TZOFFSETFROM:+1300
TZOFFSETTO:+1200
TZNAME:NZST
DTSTART:20230401T140000
END:STANDARD
BEGIN:DAYLIGHT
TZOFFSETFROM:+1200
TZOFFSETTO:+1300
TZNAME:NZDT
DTSTART:20230923T140000
END:DAYLIGHT
BEGIN:STANDARD
TZOFFSETFROM:+1300
TZOFFSETTO:+1200
TZNAME:NZST
DTSTART:20240406T140000
END:STANDARD
BEGIN:DAYLIGHT
TZOFFSETFROM:+1200
TZOFFSETTO:+1300
TZNAME:NZDT
DTSTART:20240928T140000
END:DAYLIGHT
BEGIN:STANDARD
TZOFFSETFROM:+1300
TZOFFSETTO:+1200
TZNAME:NZST
DTSTART:20250405T140000
END:STANDARD
BEGIN:DAYLIGHT
TZOFFSETFROM:+1200
TZOFFSETTO:+1300
TZNAME:NZDT
DTSTART:20250927T140000
END:DAYLIGHT
END:VTIMEZONE
BEGIN:VTIMEZONE
TZID:Europe/London
BEGIN:DAYLIGHT
TZOFFSETFROM:+0000
TZOFFSETTO:+0100
TZNAME:BST
DTSTART:20230326T010000
END:DAYLIGHT
BEGIN:STANDARD
TZOFFSETFROM:+0100
TZOFFSETTO:+0000
TZNAME:GMT
DTSTART:20231029T010000
END:STANDARD
BEGIN:DAYLIGHT
TZOFFSETFROM:+0000
TZOFFSETTO:+0100
TZNAME:BST
DTSTART:20240331T010000
END:DAYLIGHT
BEGIN:STANDARD
TZOFFSETFROM:+0100
TZOFFSETTO:+0000
TZNAME:GMT
DTSTART:20241027T010000
END:STANDARD
BEGIN:DAYLIGHT
TZOFFSETFROM:+0000
TZOFFSETTO:+0100
TZNAME:BST
DTSTART:20250330T010000
END:DAYLIGHT
BEGIN:STANDARD
TZOFFSETFROM:+0100
TZOFFSETTO:+0000
TZNAME:GMT
DTSTART:20251026T010000
END:STANDARD
END:VTIMEZONE
BEGIN:VTIMEZONE
TZID:Europe/Paris
BEGIN:DAYLIGHT
TZOFFSETFROM:+0100
TZOFFSETTO:+0200
TZNAME:CEST
DTSTART:20230326T010000
END:DAYLIGHT
BEGIN:STANDARD
TZOFFSETFROM:+0200
TZOFFSETTO:+0100
TZNAME:CET
DTSTART:20231029T010000
END:STANDARD
BEGIN:DAYLIGHT
TZOFFSETFROM:+0100
TZOFFSETTO:+0200
TZNAME:CEST
DTSTART:20240331T010000
END:DAYLIGHT
BEGIN:STANDARD
TZOFFSETFROM:+0200
TZOFFSETTO:+0100
TZNAME:CET
DTSTART:20241027T010000
END:STANDARD
BEGIN:DAYLIGHT
TZOFFSETFROM:+0100
TZOFFSETTO:+0200
TZNAME:CEST
DTSTART:20250330T010000
END:DAYLIGHT
BEGIN:STANDARD
TZOFFSETFROM:+0200
TZOFFSETTO:+0100
TZNAME:CET
DTSTART:20251026T010000
END:STANDARD
END:VTIMEZONE
BEGIN:VTIMEZONE
TZID:America/Chicago
BEGIN:DAYLIGHT
TZOFFSETFROM:-0600
TZOFFSETTO:-0500
TZNAME:CDT
DTSTART:20230312T080000
END:DAYLIGHT
BEGIN:STANDARD
TZOFFSETFROM:-0500
TZOFFSETTO:-0600
TZNAME:CST
DTSTART:20231105T070000
END:STANDARD
BEGIN:DAYLIGHT
TZOFFSETFROM:-0600
TZOFFSETTO:-0500
TZNAME:CDT
DTSTART:20240310T080000
END:DAYLIGHT
BEGIN:STANDARD
TZOFFSETFROM:-0500
TZOFFSETTO:-0600
TZNAME:CST
DTSTART:20241103T070000
END:STANDARD
BEGIN:DAYLIGHT
TZOFFSETFROM:-0600
TZOFFSETTO:-0500
TZNAME:CDT
DTSTART:20250309T080000
END:DAYLIGHT
BEGIN:STANDARD
TZOFFSETFROM:-0500
TZOFFSETTO:-0600
TZNAME:CST
DTSTART:20251102T070000
END:STANDARD
END:VTIMEZONE
BEGIN:VEVENT
DTSTART;VALUE=DATE:20240429
DTEND;VALUE=DATE:20240503
DTSTAMP:20260423T015958
CREATED:20240126T074631Z
LAST-MODIFIED:20240126T205807Z
UID:10000370-1714348800-1714694399@events.davismethod.com
SUMMARY:Gift of Dyslexia Workshop– Online - US-Canada- 2024 - April
DESCRIPTION:Fundamentals of Dyslexia Correction\nThis 4-Day (30-hour) online workshop is an introduction to the basic theories\, principles and application of all the procedures described in The Gift of Dyslexia. Training is done with a combination of lectures\, demonstrations\, group practice\, and question and answer sessions. Attendance is limited to ensure the highest quality of training. \nThis workshop is open to all adults who are interested in learning more about Davis methods and theory\, and is also the first workshop in the 7-course training series leading to professional licensing as a Davis Facilitator. \nEnrollment is limited — deposit early to reserve a spot. 
URL:https://events.davismethod.com/event/gift-workshop-us-april-2024/
LOCATION:Online (US Mountain Time)\, United States
CATEGORIES:* Davis Dyslexia Training,* Gift of Dyslexia Workshop,* Online Webcast,Canada,English,United States
ATTACH;FMTTYPE=image/png:https://events.davismethod.com/wp-content/uploads/2015/05/ddai-e1433761109904.png
ORGANIZER;CN="DDAI-Davis Dyslexia Association International":MAILTO:training@dyslexia.com
GEO:39.5500507;-105.7820674
END:VEVENT
BEGIN:VEVENT
DTSTART;VALUE=DATE:20240429
DTEND;VALUE=DATE:20240504
DTSTAMP:20260423T015958
CREATED:20231215T091009Z
LAST-MODIFIED:20231215T230421Z
UID:10000359-1714348800-1714780799@events.davismethod.com
SUMMARY:Advanced Practice Meeting - US/Canada - Online - 2024 I
DESCRIPTION:Advanced Supervised Practice Meeting – Online\nThis five-day course provides intensive supervision leading to mastery of the core Davis procedures; and further instruction in the logic\, reasoning\, and strategies underlying the Davis methods\, and the administration of Davis Programs. \n 
URL:https://events.davismethod.com/event/apm-us-2024-1/
LOCATION:Online (US Mountain Time)\, United States
CATEGORIES:* Online Webcast,Advanced Davis Training,Advanced Supervised Practice Meeting,Canada,United States
ATTACH;FMTTYPE=image/png:https://events.davismethod.com/wp-content/uploads/2015/05/ddai-e1433761109904.png
ORGANIZER;CN="DDAI-Davis Dyslexia Association International":MAILTO:training@dyslexia.com
GEO:39.5500507;-105.7820674
END:VEVENT
BEGIN:VEVENT
DTSTART;VALUE=DATE:20240506
DTEND;VALUE=DATE:20240508
DTSTAMP:20260423T015958
CREATED:20240116T093637Z
LAST-MODIFIED:20240116T095315Z
UID:10000366-1714953600-1715126399@events.davismethod.com
SUMMARY:Davis Learning Strategies - North America - Online - May 2024
DESCRIPTION:This interactive workshop for primary (K-3) teachers and support personnel provides unique and innovative strategies for improving reading instruction and classroom management. \nONLINE Zoom conferencing. \nA Davis Learning Strategies® workshop gives teachers:\n\nA set of learning strategies promoting self-regulating behaviors\nVisual-kinesthetic approaches matching children’s developmental levels\nStrategies challenging the needs of all learners within a classroom\nStrategies that complement any curriculum already in place\nProject-based learning for students\nDetailed instructions appropriate for Response to Intervention (RTI) needs
URL:https://events.davismethod.com/event/dls-online-may2024/
LOCATION:Online (CST time zone)\, WI\, United States
CATEGORIES:* Online Webcast,Davis Learning Strategies,English,United States,Workshop
ATTACH;FMTTYPE=image/jpeg:https://events.davismethod.com/wp-content/uploads/2017/07/FB-DLS-Event-Cover784×295-2-e1499829453269.jpg
ORGANIZER;CN="Davis Learning Strategies (DLS)":MAILTO:info@davislearn.com
GEO:31.9685988;-99.9018131
END:VEVENT
BEGIN:VEVENT
DTSTART;TZID=Pacific/Auckland:20240507T130000
DTEND;TZID=Pacific/Auckland:20240523T150000
DTSTAMP:20260423T015958
CREATED:20240329T064331Z
LAST-MODIFIED:20240329T165424Z
UID:10000388-1715086800-1716476400@events.davismethod.com
SUMMARY:Why Tyrannosaurus But Not If?  Parent & Tutor Support Course
DESCRIPTION:Course?\nThink of it as six great sessions packed with tools and strategies that will help you support your children at home and/or learners in your classroom – the way they learn! \nCo-created by Claire Ashmore #GrowingChoices and Rachel Barwell #MasterDyslexia\, this course is adapted from the “Why Tyrannosaurus But Not If?’ manual and book authored by Richard Whitehead\, Davis Dyslexia Association Director UK and Africa \nWhy Ty is a live\, online\, facilitated\, interactive & engaging\, practical\, hands-on course with tools and strategies you can use straight away with your child or learners. \n*NOTE \n6×2-hr sessions held over over 3 weeks. \nStarting 7 May: NZ\, Australia\, Vanuatu\, Samoa\, Tonga & Fiji (Tuesdays/Thursdays)\nStarting 6 May: North & South America\, Hawai’i & Cook Islands (Mondays/Wednesdays) \nPlease take the time to note the online delivery days applicable to your timezone. \nHelp your bright but struggling learners succeed with ease. Dyslexia is a true gift once you know how to work with it. In this course you will discover a clear way to resolve dyslexic confusion for your child or learners.
URL:https://events.davismethod.com/event/why-tyrannosaurus/
LOCATION:Online – New Zealand\, 658 Colombo Street\, Christchurch\, New Zealand\, 8011\, New Zealand
CATEGORIES:* Online Webcast,English,New Zealand,Why Ty? Parent Course
ATTACH;FMTTYPE=image/jpeg:https://events.davismethod.com/wp-content/uploads/2024/03/Picture-1-1.jpg
ORGANIZER;CN="Claire Ashmore & Rachel Barwell":MAILTO:claire@growingchoices.co.nz
GEO:-37.9075526;175.473652
X-APPLE-STRUCTURED-LOCATION;VALUE=URI;X-ADDRESS=Online – New Zealand 658 Colombo Street Christchurch New Zealand 8011 New Zealand;X-APPLE-RADIUS=500;X-TITLE=658 Colombo Street:geo:175.473652,-37.9075526
END:VEVENT
BEGIN:VEVENT
DTSTART;VALUE=DATE:20240508
DTEND;VALUE=DATE:20240510
DTSTAMP:20260423T015958
CREATED:20240116T095925Z
LAST-MODIFIED:20240116T100155Z
UID:10000367-1715126400-1715299199@events.davismethod.com
SUMMARY:Davis Learning Strategies - Texas - May 2024
DESCRIPTION:This interactive workshop for primary (K-3) teachers and support personnel provides unique and innovative strategies for improving reading instruction and classroom management. \nA Davis Learning Strategies® workshop gives teachers:\n\nA set of learning strategies promoting self-regulating behaviors\nVisual-kinesthetic approaches matching children’s developmental levels\nStrategies challenging the needs of all learners within a classroom\nStrategies that complement any curriculum already in place\nProject-based learning for students\nDetailed instructions appropriate for Response to Intervention (RTI) needs
URL:https://events.davismethod.com/event/dls-texas-may2024/
LOCATION:Success Learning Center\, 722 S. Bois D'Arc Ave.\, Suite 3\, Tyler\, TX\, 75701\, United States
CATEGORIES:Davis Learning Strategies,English,United States,Workshop
ATTACH;FMTTYPE=image/jpeg:https://events.davismethod.com/wp-content/uploads/2017/07/FB-DLS-Event-Cover784×295-2-e1499829453269.jpg
ORGANIZER;CN="Davis Learning Strategies (DLS)":MAILTO:info@davislearn.com
GEO:32.3415321;-95.303124
X-APPLE-STRUCTURED-LOCATION;VALUE=URI;X-ADDRESS=Success Learning Center 722 S. Bois D'Arc Ave. Suite 3 Tyler TX 75701 United States;X-APPLE-RADIUS=500;X-TITLE=722 S. Bois D'Arc Ave.\, Suite 3:geo:-95.303124,32.3415321
END:VEVENT
BEGIN:VEVENT
DTSTART;VALUE=DATE:20240513
DTEND;VALUE=DATE:20240518
DTSTAMP:20260423T015958
CREATED:20201117T225409Z
LAST-MODIFIED:20240113T225528Z
UID:10000132-1715558400-1715990399@events.davismethod.com
SUMMARY:Gift of Dyslexia Workshop – Malvern\, UK
DESCRIPTION:This 5-day workshop is an introduction to the basic theories\, principles and application of all the procedures described in Ronald Davis’s internationally best-selling book\, The Gift of Dyslexia\, and more. Training is done with a combination of lectures\, demonstrations\, group practice\, and question and answer sessions. Attendance is limited to ensure the highest quality of training.
URL:https://events.davismethod.com/event/gift-of-dyslexia-workshop-malvern-uk-4/
LOCATION:Online — from Malvern\, UK\, 47-49 Church Street\, Malvern\, Worcestershire\, WR14 2AA\, United Kingdom
CATEGORIES:* Gift of Dyslexia Workshop,* Online Webcast,English,United Kingdom
ATTACH;FMTTYPE=image/jpeg:https://events.davismethod.com/wp-content/uploads/2020/11/alphabet-R-and-T-reduced.jpg
ORGANIZER;CN="Davis Learning Foundation":MAILTO:info@davislearningfoundation.org.uk
GEO:52.1115766;-2.329152
X-APPLE-STRUCTURED-LOCATION;VALUE=URI;X-ADDRESS=Online — from Malvern UK 47-49 Church Street Malvern Worcestershire WR14 2AA United Kingdom;X-APPLE-RADIUS=500;X-TITLE=47-49 Church Street:geo:-2.329152,52.1115766
END:VEVENT
BEGIN:VEVENT
DTSTART;VALUE=DATE:20240513
DTEND;VALUE=DATE:20240518
DTSTAMP:20260423T015958
CREATED:20231215T092458Z
LAST-MODIFIED:20231215T092458Z
UID:10000362-1715558400-1715990399@events.davismethod.com
SUMMARY:Licensing Training Pod 1 -US/Canada -Online - 2024 1
DESCRIPTION:This online training ensures professional standards of quality for providing 5-day Davis programs are fully developed and understood. Students work in groups of 3 (pods) under the supervision of a Davis Specialist\, in one of the following roles for a full week: \n\nProviding a Davis Program.\nReceiving a Davis Program.\nObserving a Davis Program.
URL:https://events.davismethod.com/event/pod1-us-2024-1/
LOCATION:Online (US Mountain Time)\, United States
CATEGORIES:* Online Webcast,Advanced Davis Training,Licensing Training Pod,United States
ATTACH;FMTTYPE=image/png:https://events.davismethod.com/wp-content/uploads/2015/05/ddai-e1433761109904.png
ORGANIZER;CN="DDAI-Davis Dyslexia Association International":MAILTO:training@dyslexia.com
GEO:39.5500507;-105.7820674
END:VEVENT
BEGIN:VEVENT
DTSTART;VALUE=DATE:20240522
DTEND;VALUE=DATE:20240527
DTSTAMP:20260423T015958
CREATED:20231105T184725Z
LAST-MODIFIED:20231105T184725Z
UID:10000340-1716336000-1716767999@events.davismethod.com
SUMMARY:Licensing Training Pod 3 (in German) – Online – Berlin\, Germany
DESCRIPTION:Licensing Training Pod:\nThis training ensures professional standards of quality for providing 5-day Davis programs are fully developed and understood. Students work in groups of 3 (pods) under the supervision of a Davis Specialist\, in one of the following roles for a full week: \n\nProviding a Davis Program.\nReceiving a Davis Program.\nObserving a Davis Program.\n\nThe roles are not done in a specific order. Some students may provide a program during their first Pod Week\, while others may provide a program in their third Pod Week. Students work in groups of three under the direct supervision of a Davis Specialist. Each group consists of a provider\, a client\, and an observer. Therefore scheduling is subject to forming groups of three students who all have complementary roles. The observing and providing roles may need to be repeated to improve skills. \nIncludes individual supervisor consultations\, Client Kit in the “receive program” Pod Week\, and handbook of forms required for providing Davis programs. Group discussions and short lectures led by a Specialist are held throughout the Pod Weeks. These further prepare a student for providing Davis programs in a professional\, business setting.
URL:https://events.davismethod.com/event/licensing-training-pod-3-in-german-online-berlin-germany-2/
LOCATION:Online (Germany/ CET)\, Berlin\, Germany
CATEGORIES:* Online Webcast,Advanced Davis Training,German,Germany,Licensing Training Pod
ORGANIZER;CN="Davis Lernverband gGmbH":MAILTO:info@dyslexia.de
GEO:52.5200066;13.404954
END:VEVENT
BEGIN:VEVENT
DTSTART;TZID=America/Chicago:20240523T080000
DTEND;TZID=America/Chicago:20240524T160000
DTSTAMP:20260423T015958
CREATED:20240324T230755Z
LAST-MODIFIED:20240620T015620Z
UID:10000378-1716451200-1716566400@events.davismethod.com
SUMMARY:Davis Stepping Stones Workshop- Online
DESCRIPTION:You can help a young child unlock their knowledge and capabilities with our specialized Davis Stepping Stones Workshop. This course has been tailored specifically for family members\, educators and therapists wanting to assist a child (or children) under the age of eight. You will be able to guide them to increase their self-awareness\, improve self-regulation\, deal more positively with change\, cope with meltdowns\, and better understand the world around them – all without losing their beautiful uniqueness.​ \n​Presenter: Stacey Smith \nLocation:  Online (presented from Calgary) \nSchedule: 23-24th May 2024\,  8:00am- 4:00pm MT \nLanguage: English \nFor enrolments please contact Stacey: info@rockypointacademy.com
URL:https://events.davismethod.com/event/davis-stepping-stones-workshop-online/
LOCATION:Online (Canada – Calgary\, AB time)\, Calgary\, Alberta\, Canada
CATEGORIES:* Online Webcast,Canada,Davis Autism International,Davis-Stepping Stones,English,Event Country,Event Language
ORGANIZER;CN="Ron Davis Autism Foundation":MAILTO:mel@rdautismfoundation.org
GEO:51.0447331;-114.0718831
END:VEVENT
BEGIN:VEVENT
DTSTART;VALUE=DATE:20240528
DTEND;VALUE=DATE:20240529
DTSTAMP:20260423T015958
CREATED:20240529T053209Z
LAST-MODIFIED:20240529T053209Z
UID:10000394-1716854400-1716940799@events.davismethod.com
SUMMARY:Gift of Dyslexia Workshop - Online- NZ Time
DESCRIPTION:The Gift of Dyslexia Workshop is an introduction to the fundamental theories\, principles and procedures of Davis Dyslexia Correction. These basic principles and methods form the foundation of the various Davis Programmes for dyslexia\, dyspraxia\, dyscalculia\, dysgraphia and ADHD. Training is done with a combination of lectures\, demonstrations\, paired practice sessions and Q & A. Each participant will have the opportunity to understand\, experience and practice each procedure. Attendance is limited to ensure the highest quality of training. \nWho should attend:\nParents\, Teachers\, RTLB’s\, Reading Specialists\, Teacher Aides\, Tutors and those interested in completing the Licensed Facilitator Training Programme. \nWhat you will learn\, see demonstrated\, and personally experience:• Proven methods for improving reading fluency\, spelling\,\nmotor coordination and attention focus.\n• How the Davis procedures were developed\n• How dyslexics think and perceive\n• How to assess for the ‘gift of dyslexia’\n• How to help dyslexics eliminate confusion and focus attention\n• Davis Symbol Mastery and Reading Exercises for mastering reading and\nspelling\n• How to incorporate the Davis methods into a teaching\, home school\,\ntutoring or therapeutic setting.
URL:https://events.davismethod.com/event/gift-of-dyslexia-workshop-online-nz-time/
LOCATION:Online – New Zealand\, 658 Colombo Street\, Christchurch\, New Zealand\, 8011\, New Zealand
CATEGORIES:* Gift of Dyslexia Workshop,* Online Webcast,English,New Zealand
ORGANIZER;CN="DDA-Pacific":MAILTO:margot@giftdyslexia.co.nz
GEO:-37.9075526;175.473652
X-APPLE-STRUCTURED-LOCATION;VALUE=URI;X-ADDRESS=Online – New Zealand 658 Colombo Street Christchurch New Zealand 8011 New Zealand;X-APPLE-RADIUS=500;X-TITLE=658 Colombo Street:geo:175.473652,-37.9075526
END:VEVENT
END:VCALENDAR