BEGIN:VCALENDAR
VERSION:2.0
PRODID:-//Training &amp; Events Calendar - ECPv6.15.19//NONSGML v1.0//EN
CALSCALE:GREGORIAN
METHOD:PUBLISH
X-WR-CALNAME:Training &amp; Events Calendar
X-ORIGINAL-URL:https://events.davismethod.com
X-WR-CALDESC:Events for Training &amp; Events Calendar
REFRESH-INTERVAL;VALUE=DURATION:PT1H
X-Robots-Tag:noindex
X-PUBLISHED-TTL:PT1H
BEGIN:VTIMEZONE
TZID:America/Los_Angeles
BEGIN:DAYLIGHT
TZOFFSETFROM:-0800
TZOFFSETTO:-0700
TZNAME:PDT
DTSTART:20220313T100000
END:DAYLIGHT
BEGIN:STANDARD
TZOFFSETFROM:-0700
TZOFFSETTO:-0800
TZNAME:PST
DTSTART:20221106T090000
END:STANDARD
BEGIN:DAYLIGHT
TZOFFSETFROM:-0800
TZOFFSETTO:-0700
TZNAME:PDT
DTSTART:20230312T100000
END:DAYLIGHT
BEGIN:STANDARD
TZOFFSETFROM:-0700
TZOFFSETTO:-0800
TZNAME:PST
DTSTART:20231105T090000
END:STANDARD
BEGIN:DAYLIGHT
TZOFFSETFROM:-0800
TZOFFSETTO:-0700
TZNAME:PDT
DTSTART:20240310T100000
END:DAYLIGHT
BEGIN:STANDARD
TZOFFSETFROM:-0700
TZOFFSETTO:-0800
TZNAME:PST
DTSTART:20241103T090000
END:STANDARD
END:VTIMEZONE
BEGIN:VEVENT
DTSTART;VALUE=DATE:20230424
DTEND;VALUE=DATE:20230428
DTSTAMP:20260423T070722
CREATED:20220725T073050Z
LAST-MODIFIED:20221109T205535Z
UID:10000278-1682294400-1682639999@events.davismethod.com
SUMMARY:Advanced Davis Methods Workshop -Online - US/Canada
DESCRIPTION:This four-day online workshop is open to persons who have successfully completed the Basic Supervised Practice Meeting. It provides specialized training in advanced Davis procedures for addressing the symptoms of Attention Deficit Disorder\, dyscalculia and dysgraphia.
URL:https://events.davismethod.com/event/adv-workshop-us-2023-4/
LOCATION:Online (US Mountain Time)\, United States
CATEGORIES:* Online Webcast,Advanced Davis Methods Workshop,Advanced Davis Training,United States
ATTACH;FMTTYPE=image/png:https://events.davismethod.com/wp-content/uploads/2015/05/ddai-e1433761109904.png
ORGANIZER;CN="DDAI-Davis Dyslexia Association International":MAILTO:training@dyslexia.com
GEO:39.5500507;-105.7820674
END:VEVENT
END:VCALENDAR